BEGIN:VCALENDAR
VERSION:2.0
PRODID:-//ICM - Institut Catholique de la Méditerranée - ECPv6.15.20//NONSGML v1.0//EN
CALSCALE:GREGORIAN
METHOD:PUBLISH
X-WR-CALNAME:ICM - Institut Catholique de la Méditerranée
X-ORIGINAL-URL:https://icm.catholique.fr
X-WR-CALDESC:Évènements pour ICM - Institut Catholique de la Méditerranée
REFRESH-INTERVAL;VALUE=DURATION:PT1H
X-Robots-Tag:noindex
X-PUBLISHED-TTL:PT1H
BEGIN:VTIMEZONE
TZID:Europe/Paris
BEGIN:DAYLIGHT
TZOFFSETFROM:+0100
TZOFFSETTO:+0200
TZNAME:CEST
DTSTART:20250330T010000
END:DAYLIGHT
BEGIN:STANDARD
TZOFFSETFROM:+0200
TZOFFSETTO:+0100
TZNAME:CET
DTSTART:20251026T010000
END:STANDARD
BEGIN:DAYLIGHT
TZOFFSETFROM:+0100
TZOFFSETTO:+0200
TZNAME:CEST
DTSTART:20260329T010000
END:DAYLIGHT
BEGIN:STANDARD
TZOFFSETFROM:+0200
TZOFFSETTO:+0100
TZNAME:CET
DTSTART:20261025T010000
END:STANDARD
BEGIN:DAYLIGHT
TZOFFSETFROM:+0100
TZOFFSETTO:+0200
TZNAME:CEST
DTSTART:20270328T010000
END:DAYLIGHT
BEGIN:STANDARD
TZOFFSETFROM:+0200
TZOFFSETTO:+0100
TZNAME:CET
DTSTART:20271031T010000
END:STANDARD
END:VTIMEZONE
BEGIN:VEVENT
DTSTART;TZID=Europe/Paris:20260130T190000
DTEND;TZID=Europe/Paris:20260130T210000
DTSTAMP:20260419T200532
CREATED:20250728T204243Z
LAST-MODIFIED:20250926T133142Z
UID:15664-1769799600-1769806800@icm.catholique.fr
SUMMARY:La Trinité : mystère de Dieu et mystère de l’homme
DESCRIPTION:
URL:https://icm.catholique.fr/event/la-trinite-mystere-de-dieu-et-mystere-de-lhomme-5/
LOCATION:Bouches-Du-Rhône
CATEGORIES:Calendrier,Cours ISTR,Évènements à venir
ATTACH;FMTTYPE=image/jpeg:https://icm.catholique.fr/wp-content/uploads/2025/07/4-1.jpg
ORGANIZER;CN="ICM":MAILTO:icm@icm13.com
END:VEVENT
BEGIN:VEVENT
DTSTART;TZID=Europe/Paris:20260131T150000
DTEND;TZID=Europe/Paris:20260131T173000
DTSTAMP:20260419T200532
CREATED:20260115T151457Z
LAST-MODIFIED:20260127T194252Z
UID:16988-1769871600-1769880600@icm.catholique.fr
SUMMARY:Vœux ISTR 2026
DESCRIPTION:
URL:https://icm.catholique.fr/event/soiree-des-voeux-istr-2026/
LOCATION:Centre Le Mistral\, 11 impasse Flammarion\, Marseille\, Bouches-Du-Rhône\, 13001\, France
CATEGORIES:Calendrier,Conférences - colloques,Évènements à venir,ISTR
ATTACH;FMTTYPE=image/jpeg:https://icm.catholique.fr/wp-content/uploads/2026/01/affiche-conf-voeux-2026.jpg
ORGANIZER;CN="ICM":MAILTO:icm@icm13.com
END:VEVENT
BEGIN:VEVENT
DTSTART;TZID=Europe/Paris:20260203T140000
DTEND;TZID=Europe/Paris:20260203T170000
DTSTAMP:20260419T200532
CREATED:20260223T092521Z
LAST-MODIFIED:20260223T092521Z
UID:17348-1770127200-1770138000@icm.catholique.fr
SUMMARY:"Retour à Sion" : comment comprendre la centralité d'Israël dans l'identité juive ?
DESCRIPTION:
URL:https://icm.catholique.fr/event/retour-a-sion-comment-comprendre-la-centralite-disrael-dans-lidentite-juive/
LOCATION:Centre Le Mistral\, 11 impasse Flammarion\, Marseille\, Bouches-Du-Rhône\, 13001\, France
CATEGORIES:Calendrier,Cours ISTR,Évènements à venir
ATTACH;FMTTYPE=image/jpeg:https://icm.catholique.fr/wp-content/uploads/2025/07/9.jpg
ORGANIZER;CN="ICM":MAILTO:icm@icm13.com
END:VEVENT
BEGIN:VEVENT
DTSTART;TZID=Europe/Paris:20260203T180000
DTEND;TZID=Europe/Paris:20260203T200000
DTSTAMP:20260419T200532
CREATED:20260209T155823Z
LAST-MODIFIED:20260209T155823Z
UID:17200-1770141600-1770148800@icm.catholique.fr
SUMMARY:Initiation à l’hindouisme
DESCRIPTION:
URL:https://icm.catholique.fr/event/initiation-a-lhindouisme-5/
LOCATION:Centre Le Mistral\, 11 impasse Flammarion\, Marseille\, Bouches-Du-Rhône\, 13001\, France
CATEGORIES:Calendrier,Cours ISTR,Évènements à venir
ATTACH;FMTTYPE=image/jpeg:https://icm.catholique.fr/wp-content/uploads/2025/07/Hindouisme-1-e1752237188875.jpg
ORGANIZER;CN="ICM":MAILTO:icm@icm13.com
END:VEVENT
BEGIN:VEVENT
DTSTART;TZID=Europe/Paris:20260204T180000
DTEND;TZID=Europe/Paris:20260204T200000
DTSTAMP:20260419T200532
CREATED:20260128T162946Z
LAST-MODIFIED:20260128T162946Z
UID:17066-1770228000-1770235200@icm.catholique.fr
SUMMARY:Introduction au Coran
DESCRIPTION:
URL:https://icm.catholique.fr/event/introduction-au-coran/
LOCATION:Centre Le Mistral\, 11 impasse Flammarion\, Marseille\, Bouches-Du-Rhône\, 13001\, France
CATEGORIES:Calendrier,Cours ISTR,Évènements à venir
ATTACH;FMTTYPE=image/jpeg:https://icm.catholique.fr/wp-content/uploads/2026/01/14-1-480x679-1.jpg
ORGANIZER;CN="ICM":MAILTO:icm@icm13.com
END:VEVENT
BEGIN:VEVENT
DTSTART;TZID=Europe/Paris:20260205T103000
DTEND;TZID=Europe/Paris:20260205T120000
DTSTAMP:20260419T200532
CREATED:20251006T132813Z
LAST-MODIFIED:20260202T152512Z
UID:16230-1770287400-1770292800@icm.catholique.fr
SUMMARY:Langue hébreu biblique niveau 3
DESCRIPTION:
URL:https://icm.catholique.fr/event/langue-hebreu-biblique-niveau-3-12/
LOCATION:Centre Le Mistral\, 11 impasse Flammarion\, Marseille\, Bouches-Du-Rhône\, 13001\, France
CATEGORIES:Calendrier
ATTACH;FMTTYPE=image/jpeg:https://icm.catholique.fr/wp-content/uploads/2025/09/image-hebreu.jpg
ORGANIZER;CN="ICM":MAILTO:icm@icm13.com
END:VEVENT
BEGIN:VEVENT
DTSTART;TZID=Europe/Paris:20260205T123000
DTEND;TZID=Europe/Paris:20260205T140000
DTSTAMP:20260419T200532
CREATED:20250929T103345Z
LAST-MODIFIED:20260202T154633Z
UID:16044-1770294600-1770300000@icm.catholique.fr
SUMMARY:Langue hébreu biblique niveau 1
DESCRIPTION:
URL:https://icm.catholique.fr/event/langue-hebreu-biblique-niveau-1-13/
LOCATION:Centre Le Mistral\, 11 impasse Flammarion\, Marseille\, Bouches-Du-Rhône\, 13001\, France
CATEGORIES:Calendrier
ATTACH;FMTTYPE=image/jpeg:https://icm.catholique.fr/wp-content/uploads/2025/09/image-hebreu.jpg
ORGANIZER;CN="ICM":MAILTO:icm@icm13.com
END:VEVENT
BEGIN:VEVENT
DTSTART;TZID=Europe/Paris:20260205T143000
DTEND;TZID=Europe/Paris:20260205T160000
DTSTAMP:20260419T200532
CREATED:20251006T101352Z
LAST-MODIFIED:20260202T154146Z
UID:16180-1770301800-1770307200@icm.catholique.fr
SUMMARY:Langue hébreu biblique niveau 2
DESCRIPTION:
URL:https://icm.catholique.fr/event/langue-hebreu-biblique-niveau-2-14/
LOCATION:Centre Le Mistral\, 11 impasse Flammarion\, Marseille\, Bouches-Du-Rhône\, 13001\, France
CATEGORIES:Calendrier
ORGANIZER;CN="ICM":MAILTO:icm@icm13.com
END:VEVENT
BEGIN:VEVENT
DTSTART;TZID=Europe/Paris:20260206T140000
DTEND;TZID=Europe/Paris:20260206T180000
DTSTAMP:20260419T200532
CREATED:20250728T213409Z
LAST-MODIFIED:20260223T104048Z
UID:15726-1770386400-1770400800@icm.catholique.fr
SUMMARY:Cursus d'Etudes Théologiques année A
DESCRIPTION:
URL:https://icm.catholique.fr/event/cursus-detudes-theologiques-annee-a-9/
LOCATION:Bouches-Du-Rhône
CATEGORIES:Calendrier,Cours ISTR,Évènements à venir
ATTACH;FMTTYPE=image/jpeg:https://icm.catholique.fr/wp-content/uploads/2023/05/CET.jpg
ORGANIZER;CN="ISTR de Marseille":MAILTO:istr@icm13.com
END:VEVENT
BEGIN:VEVENT
DTSTART;TZID=Europe/Paris:20260206T190000
DTEND;TZID=Europe/Paris:20260206T210000
DTSTAMP:20260419T200532
CREATED:20250728T204154Z
LAST-MODIFIED:20250926T133205Z
UID:15665-1770404400-1770411600@icm.catholique.fr
SUMMARY:La Trinité : mystère de Dieu et mystère de l’homme
DESCRIPTION:
URL:https://icm.catholique.fr/event/la-trinite-mystere-de-dieu-et-mystere-de-lhomme-4/
LOCATION:Bouches-Du-Rhône
CATEGORIES:Calendrier,Cours ISTR,Évènements à venir
ATTACH;FMTTYPE=image/jpeg:https://icm.catholique.fr/wp-content/uploads/2025/07/4-1.jpg
ORGANIZER;CN="ICM":MAILTO:icm@icm13.com
END:VEVENT
BEGIN:VEVENT
DTSTART;TZID=Europe/Paris:20260207T090000
DTEND;TZID=Europe/Paris:20260207T170000
DTSTAMP:20260419T200532
CREATED:20250728T213430Z
LAST-MODIFIED:20260223T104111Z
UID:15725-1770454800-1770483600@icm.catholique.fr
SUMMARY:Cursus d'Etudes Théologiques année A
DESCRIPTION:
URL:https://icm.catholique.fr/event/cursus-detudes-theologiques-annee-a-10/
LOCATION:Bouches-Du-Rhône
CATEGORIES:Calendrier,Cours ISTR,Évènements à venir
ATTACH;FMTTYPE=image/jpeg:https://icm.catholique.fr/wp-content/uploads/2023/05/CET.jpg
ORGANIZER;CN="ISTR de Marseille":MAILTO:istr@icm13.com
END:VEVENT
BEGIN:VEVENT
DTSTART;TZID=Europe/Paris:20260207T103000
DTEND;TZID=Europe/Paris:20260207T120000
DTSTAMP:20260419T200532
CREATED:20260223T142300Z
LAST-MODIFIED:20260223T142300Z
UID:17368-1770460200-1770465600@icm.catholique.fr
SUMMARY:Initiation au sanskrit
DESCRIPTION:
URL:https://icm.catholique.fr/event/initiation-au-sanskrit-4/
LOCATION:Centre Le Mistral\, 11 impasse Flammarion\, Marseille\, Bouches-Du-Rhône\, 13001\, France
CATEGORIES:Calendrier,Cours ISTR,Évènements à venir
ATTACH;FMTTYPE=image/jpeg:https://icm.catholique.fr/wp-content/uploads/2025/07/Capture-decran-2025-06-20-a-13.22.59-1.jpg
ORGANIZER;CN="ICM":MAILTO:icm@icm13.com
END:VEVENT
BEGIN:VEVENT
DTSTART;TZID=Europe/Paris:20260210T140000
DTEND;TZID=Europe/Paris:20260210T170000
DTSTAMP:20260419T200532
CREATED:20260223T092717Z
LAST-MODIFIED:20260223T092717Z
UID:17350-1770732000-1770742800@icm.catholique.fr
SUMMARY:"Retour à Sion" : comment comprendre la centralité d'Israël dans l'identité juive ?
DESCRIPTION:
URL:https://icm.catholique.fr/event/retour-a-sion-comment-comprendre-la-centralite-disrael-dans-lidentite-juive-2/
LOCATION:Centre Le Mistral\, 11 impasse Flammarion\, Marseille\, Bouches-Du-Rhône\, 13001\, France
CATEGORIES:Calendrier,Cours ISTR,Évènements à venir
ATTACH;FMTTYPE=image/jpeg:https://icm.catholique.fr/wp-content/uploads/2025/07/9.jpg
ORGANIZER;CN="ICM":MAILTO:icm@icm13.com
END:VEVENT
BEGIN:VEVENT
DTSTART;TZID=Europe/Paris:20260210T190000
DTEND;TZID=Europe/Paris:20260210T210000
DTSTAMP:20260419T200532
CREATED:20250728T085729Z
LAST-MODIFIED:20250926T125902Z
UID:15575-1770750000-1770757200@icm.catholique.fr
SUMMARY:Master class sur Zoom  Véronique LAOUER – Accompagner les personnes victimes de violences intrafamiliales
DESCRIPTION:
URL:https://icm.catholique.fr/event/master-class-sur-zoom-e-laouer-accompagner-les-personnes-victimes-de-violences-intrafamiliales/
LOCATION:Bouches-Du-Rhône
CATEGORIES:Calendrier,Cours ISTR,Évènements à venir
ATTACH;FMTTYPE=image/jpeg:https://icm.catholique.fr/wp-content/uploads/2025/06/MC12-Veronique-Laouer.jpg
ORGANIZER;CN="ICM":MAILTO:icm@icm13.com
END:VEVENT
BEGIN:VEVENT
DTSTART;TZID=Europe/Paris:20260211T093000
DTEND;TZID=Europe/Paris:20260211T163000
DTSTAMP:20260419T200532
CREATED:20260114T142214Z
LAST-MODIFIED:20260209T123656Z
UID:16972-1770802200-1770827400@icm.catholique.fr
SUMMARY:Découvrir le Judaïsme
DESCRIPTION:
URL:https://icm.catholique.fr/event/decouvrir-le-judaisme-2/
LOCATION:Centre Le Mistral\, 11 impasse Flammarion\, Marseille\, Bouches-Du-Rhône\, 13001\, France
CATEGORIES:Calendrier,Cours ISTR,Évènements à venir
ATTACH;FMTTYPE=image/jpeg:https://icm.catholique.fr/wp-content/uploads/2023/01/decouvrir-le-judaisme.jpg
ORGANIZER;CN="ISTR de Marseille":MAILTO:istr@icm13.com
END:VEVENT
BEGIN:VEVENT
DTSTART;TZID=Europe/Paris:20260211T180000
DTEND;TZID=Europe/Paris:20260211T200000
DTSTAMP:20260419T200532
CREATED:20260128T163147Z
LAST-MODIFIED:20260128T163147Z
UID:17072-1770832800-1770840000@icm.catholique.fr
SUMMARY:Introduction au Coran
DESCRIPTION:
URL:https://icm.catholique.fr/event/introduction-au-coran-2/
LOCATION:Centre Le Mistral\, 11 impasse Flammarion\, Marseille\, Bouches-Du-Rhône\, 13001\, France
CATEGORIES:Calendrier,Cours ISTR,Évènements à venir
ATTACH;FMTTYPE=image/jpeg:https://icm.catholique.fr/wp-content/uploads/2026/01/14-1-480x679-1.jpg
ORGANIZER;CN="ICM":MAILTO:icm@icm13.com
END:VEVENT
BEGIN:VEVENT
DTSTART;TZID=Europe/Paris:20260212T103000
DTEND;TZID=Europe/Paris:20260212T120000
DTSTAMP:20260419T200532
CREATED:20251006T133930Z
LAST-MODIFIED:20260202T153720Z
UID:16232-1770892200-1770897600@icm.catholique.fr
SUMMARY:Langue hébreu biblique niveau 3
DESCRIPTION:
URL:https://icm.catholique.fr/event/langue-hebreu-biblique-niveau-3-13/
LOCATION:Centre Le Mistral\, 11 impasse Flammarion\, Marseille\, Bouches-Du-Rhône\, 13001\, France
CATEGORIES:Calendrier
ATTACH;FMTTYPE=image/jpeg:https://icm.catholique.fr/wp-content/uploads/2025/09/image-hebreu.jpg
ORGANIZER;CN="ICM":MAILTO:icm@icm13.com
END:VEVENT
BEGIN:VEVENT
DTSTART;TZID=Europe/Paris:20260212T123000
DTEND;TZID=Europe/Paris:20260212T140000
DTSTAMP:20260419T200532
CREATED:20250929T125956Z
LAST-MODIFIED:20260202T154621Z
UID:16046-1770899400-1770904800@icm.catholique.fr
SUMMARY:Langue hébreu biblique niveau 1
DESCRIPTION:
URL:https://icm.catholique.fr/event/langue-hebreu-biblique-niveau-1-14/
LOCATION:Centre Le Mistral\, 11 impasse Flammarion\, Marseille\, Bouches-Du-Rhône\, 13001\, France
CATEGORIES:Calendrier
ATTACH;FMTTYPE=image/jpeg:https://icm.catholique.fr/wp-content/uploads/2025/09/image-hebreu.jpg
ORGANIZER;CN="ICM":MAILTO:icm@icm13.com
END:VEVENT
BEGIN:VEVENT
DTSTART;TZID=Europe/Paris:20260212T143000
DTEND;TZID=Europe/Paris:20260212T160000
DTSTAMP:20260419T200532
CREATED:20251006T101522Z
LAST-MODIFIED:20260202T154130Z
UID:16182-1770906600-1770912000@icm.catholique.fr
SUMMARY:Langue hébreu biblique niveau 2
DESCRIPTION:
URL:https://icm.catholique.fr/event/langue-hebreu-biblique-niveau-2-15/
LOCATION:Centre Le Mistral\, 11 impasse Flammarion\, Marseille\, Bouches-Du-Rhône\, 13001\, France
CATEGORIES:Calendrier
ATTACH;FMTTYPE=image/jpeg:https://icm.catholique.fr/wp-content/uploads/2025/09/image-hebreu.jpg
ORGANIZER;CN="ICM":MAILTO:icm@icm13.com
END:VEVENT
BEGIN:VEVENT
DTSTART;TZID=Europe/Paris:20260212T190000
DTEND;TZID=Europe/Paris:20260212T210000
DTSTAMP:20260419T200532
CREATED:20260127T133332Z
LAST-MODIFIED:20260223T143139Z
UID:17044-1770922800-1770930000@icm.catholique.fr
SUMMARY:ESOTÉRISMES ET CHRISTIANISME EN DIALOGUE - module 4
DESCRIPTION:
URL:https://icm.catholique.fr/event/esoterismes-et-christianisme-en-dialogue-module-4/
LOCATION:En zoom
CATEGORIES:Calendrier,Cours ISTR,Évènements à venir,ISTR
ATTACH;FMTTYPE=image/jpeg:https://icm.catholique.fr/wp-content/uploads/2025/07/15-e1752098430735.jpg
ORGANIZER;CN="ISTR de Marseille":MAILTO:istr@icm13.com
END:VEVENT
BEGIN:VEVENT
DTSTART;TZID=Europe/Paris:20260303T180000
DTEND;TZID=Europe/Paris:20260303T200000
DTSTAMP:20260419T200532
CREATED:20260209T160017Z
LAST-MODIFIED:20260209T160017Z
UID:17202-1772560800-1772568000@icm.catholique.fr
SUMMARY:Initiation à l’hindouisme
DESCRIPTION:
URL:https://icm.catholique.fr/event/initiation-a-lhindouisme-6/
LOCATION:Centre Le Mistral\, 11 impasse Flammarion\, Marseille\, Bouches-Du-Rhône\, 13001\, France
CATEGORIES:Calendrier,Cours ISTR,Évènements à venir
ATTACH;FMTTYPE=image/jpeg:https://icm.catholique.fr/wp-content/uploads/2025/07/Hindouisme-1-e1752237188875.jpg
ORGANIZER;CN="ICM":MAILTO:icm@icm13.com
END:VEVENT
BEGIN:VEVENT
DTSTART;TZID=Europe/Paris:20260303T190000
DTEND;TZID=Europe/Paris:20260303T210000
DTSTAMP:20260419T200532
CREATED:20250728T090239Z
LAST-MODIFIED:20250926T124937Z
UID:15581-1772564400-1772571600@icm.catholique.fr
SUMMARY:Master class sur Zoom  Philippe LEFEBVRE - Déjouer les violences contre le vivant : Les leçons de la Bible
DESCRIPTION:
URL:https://icm.catholique.fr/event/master-class-sur-zoom-philippe-lefebvre-dejouer-les-violences-contre-le-vivant-les-lecons-de-la-bible/
LOCATION:Bouches-Du-Rhône
CATEGORIES:Calendrier,Cours ISTR,Évènements à venir
ATTACH;FMTTYPE=image/jpeg:https://icm.catholique.fr/wp-content/uploads/2025/06/MC13-Philippe-Lefebvre.jpg
ORGANIZER;CN="ICM":MAILTO:icm@icm13.com
END:VEVENT
BEGIN:VEVENT
DTSTART;TZID=Europe/Paris:20260304T090000
DTEND;TZID=Europe/Paris:20260306T170000
DTSTAMP:20260419T200532
CREATED:20240614T081807Z
LAST-MODIFIED:20260223T144233Z
UID:10583-1772614800-1772816400@icm.catholique.fr
SUMMARY:Diplôme santé et pastorale en contexte de pluralité et laïcité
DESCRIPTION:
URL:https://icm.catholique.fr/event/diplome-sante-et-pastorale-en-contexte-de-pluralite-et-laicite-5/
LOCATION:Centre Le Mistral\, 11 impasse Flammarion\, Marseille\, Bouches-Du-Rhône\, 13001\, France
CATEGORIES:Calendrier,Cours ISTR
ATTACH;FMTTYPE=image/jpeg:https://icm.catholique.fr/wp-content/uploads/2024/06/sante-et-pastorale-Image-carree.jpg
ORGANIZER;CN="ISTR de Marseille":MAILTO:istr@icm13.com
END:VEVENT
BEGIN:VEVENT
DTSTART;TZID=Europe/Paris:20260304T190000
DTEND;TZID=Europe/Paris:20260304T210000
DTSTAMP:20260419T200532
CREATED:20260209T110027Z
LAST-MODIFIED:20260209T121135Z
UID:12743-1772650800-1772658000@icm.catholique.fr
SUMMARY:La Divine Comédie de Dante : Un voyage intérieur
DESCRIPTION:
URL:https://icm.catholique.fr/event/la-divine-comedie-de-dante-un-voyage-interieur/
LOCATION:Centre Le Mistral\, 11 impasse Flammarion\, Marseille\, Bouches-Du-Rhône\, 13001\, France
CATEGORIES:Calendrier,Cours ISTR,Évènements à venir
ATTACH;FMTTYPE=image/jpeg:https://icm.catholique.fr/wp-content/uploads/2025/05/Thumbnail1.jpg
ORGANIZER;CN="ISTR de Marseille":MAILTO:istr@icm13.com
END:VEVENT
BEGIN:VEVENT
DTSTART;TZID=Europe/Paris:20260305T103000
DTEND;TZID=Europe/Paris:20260305T120000
DTSTAMP:20260419T200532
CREATED:20251006T134056Z
LAST-MODIFIED:20260202T153707Z
UID:16234-1772706600-1772712000@icm.catholique.fr
SUMMARY:Langue hébreu biblique niveau 3
DESCRIPTION:
URL:https://icm.catholique.fr/event/langue-hebreu-niveau-3-4/
LOCATION:Centre Le Mistral\, 11 impasse Flammarion\, Marseille\, Bouches-Du-Rhône\, 13001\, France
CATEGORIES:Calendrier
ATTACH;FMTTYPE=image/jpeg:https://icm.catholique.fr/wp-content/uploads/2025/09/image-hebreu.jpg
ORGANIZER;CN="ICM":MAILTO:icm@icm13.com
END:VEVENT
BEGIN:VEVENT
DTSTART;TZID=Europe/Paris:20260305T123000
DTEND;TZID=Europe/Paris:20260305T140000
DTSTAMP:20260419T200532
CREATED:20250929T130145Z
LAST-MODIFIED:20260202T154601Z
UID:16048-1772713800-1772719200@icm.catholique.fr
SUMMARY:Langue hébreu biblique niveau 1
DESCRIPTION:
URL:https://icm.catholique.fr/event/langue-hebreu-biblique-niveau-1-15/
LOCATION:Centre Le Mistral\, 11 impasse Flammarion\, Marseille\, Bouches-Du-Rhône\, 13001\, France
CATEGORIES:Calendrier
ATTACH;FMTTYPE=image/jpeg:https://icm.catholique.fr/wp-content/uploads/2025/09/image-hebreu.jpg
ORGANIZER;CN="ICM":MAILTO:icm@icm13.com
END:VEVENT
BEGIN:VEVENT
DTSTART;TZID=Europe/Paris:20260305T143000
DTEND;TZID=Europe/Paris:20260305T160000
DTSTAMP:20260419T200532
CREATED:20251006T101656Z
LAST-MODIFIED:20260202T154113Z
UID:16184-1772721000-1772726400@icm.catholique.fr
SUMMARY:Langue hébreu biblique niveau 2
DESCRIPTION:
URL:https://icm.catholique.fr/event/langue-hebreu-biblique-niveau-2-16/
LOCATION:Centre Le Mistral\, 11 impasse Flammarion\, Marseille\, Bouches-Du-Rhône\, 13001\, France
CATEGORIES:Calendrier
ATTACH;FMTTYPE=image/jpeg:https://icm.catholique.fr/wp-content/uploads/2025/09/image-hebreu.jpg
ORGANIZER;CN="ICM":MAILTO:icm@icm13.com
END:VEVENT
BEGIN:VEVENT
DTSTART;TZID=Europe/Paris:20260305T190000
DTEND;TZID=Europe/Paris:20260305T210000
DTSTAMP:20260419T200532
CREATED:20260127T133521Z
LAST-MODIFIED:20260223T144355Z
UID:17046-1772737200-1772744400@icm.catholique.fr
SUMMARY:ESOTÉRISMES ET CHRISTIANISME EN DIALOGUE - module 5
DESCRIPTION:
URL:https://icm.catholique.fr/event/esoterismes-et-christianisme-en-dialogue-module-5/
LOCATION:En zoom
CATEGORIES:Calendrier,Cours ISTR,Évènements à venir,ISTR
ATTACH;FMTTYPE=image/jpeg:https://icm.catholique.fr/wp-content/uploads/2025/07/15-e1752098430735.jpg
ORGANIZER;CN="ISTR de Marseille":MAILTO:istr@icm13.com
END:VEVENT
BEGIN:VEVENT
DTSTART;TZID=Europe/Paris:20260306T190000
DTEND;TZID=Europe/Paris:20260306T210000
DTSTAMP:20260419T200532
CREATED:20250728T203959Z
LAST-MODIFIED:20250926T133230Z
UID:15667-1772823600-1772830800@icm.catholique.fr
SUMMARY:La Trinité : mystère de Dieu et mystère de l’homme
DESCRIPTION:
URL:https://icm.catholique.fr/event/la-trinite-mystere-de-dieu-et-mystere-de-lhomme-2/
LOCATION:Bouches-Du-Rhône
CATEGORIES:Calendrier,Cours ISTR,Évènements à venir
ATTACH;FMTTYPE=image/jpeg:https://icm.catholique.fr/wp-content/uploads/2025/07/4-1.jpg
ORGANIZER;CN="ICM":MAILTO:icm@icm13.com
END:VEVENT
BEGIN:VEVENT
DTSTART;TZID=Europe/Paris:20260310T140000
DTEND;TZID=Europe/Paris:20260310T170000
DTSTAMP:20260419T200532
CREATED:20260223T093006Z
LAST-MODIFIED:20260223T093006Z
UID:17352-1773151200-1773162000@icm.catholique.fr
SUMMARY:"Retour à Sion" : comment comprendre la centralité d'Israël dans l'identité juive ?
DESCRIPTION:
URL:https://icm.catholique.fr/event/retour-a-sion-comment-comprendre-la-centralite-disrael-dans-lidentite-juive-3/
LOCATION:Centre Le Mistral\, 11 impasse Flammarion\, Marseille\, Bouches-Du-Rhône\, 13001\, France
CATEGORIES:Calendrier,Cours ISTR,Évènements à venir
ATTACH;FMTTYPE=image/jpeg:https://icm.catholique.fr/wp-content/uploads/2025/07/9.jpg
ORGANIZER;CN="ICM":MAILTO:icm@icm13.com
END:VEVENT
END:VCALENDAR